BEGIN:VCALENDAR
VERSION:2.0
PRODID:-//jEvents 2.0 for Joomla//EN
CALSCALE:GREGORIAN
METHOD:PUBLISH
BEGIN:VEVENT
UID:ebbdb0ad12b2521ca3d44531a072f7c3
CATEGORIES:Termine von Fremdvereinen
CREATED:20250330T105812
SUMMARY:24h Rennen am Alfsee
LOCATION:Alfsee / Rieste
DESCRIPTION:
DTSTAMP:20260421T120752
DTSTART;VALUE=DATE:20250510
DTEND;VALUE=DATE:20250512
SEQUENCE:0
TRANSP:OPAQUE
END:VEVENT
END:VCALENDAR